BEGIN:VCALENDAR
VERSION:2.0
PRODID:-//Iglesia San Ignacio de Loyola - ECPv3.12.1//NONSGML v1.0//EN
CALSCALE:GREGORIAN
METHOD:PUBLISH
X-WR-CALNAME:Iglesia San Ignacio de Loyola
X-ORIGINAL-URL:https://iglesiasanignacio.cl
X-WR-CALDESC:Events for Iglesia San Ignacio de Loyola
BEGIN:VEVENT
DTSTART:20260418T180000Z
DTEND:20260418T193000Z
DTSTAMP:20260424T094456Z
CREATED:20251222T132111Z
LAST-MODIFIED:20251222T132111Z
UID:2575-1776535200-1776540600@iglesiasanignacio.cl
SUMMARY:Matrimonio Aguayo-Rojas
DESCRIPTION:Matrimonio de la Srta. Milenka Jazmín Rojas Rival y el Sr. Sebastián Eduardo Aguayo Vásquez. Bendecirá la ceremonia el P. Juan Salazar Parra S.J.
URL:https://iglesiasanignacio.cl/event/matrimonio-aguayo-rojas/
LOCATION:Padre Alonso Ovalle 1494\, santiago\, Chile
END:VEVENT
BEGIN:VEVENT
DTSTART:20260418T211500Z
DTEND:20260418T230000Z
DTSTAMP:20260424T094456Z
CREATED:20260303T184023Z
LAST-MODIFIED:20260303T184023Z
UID:2596-1776546900-1776553200@iglesiasanignacio.cl
SUMMARY:Matrimonio Magaña-Jara
DESCRIPTION:Ceremonia de Matrimonio de la Srta. Rosario Beatriz Jara Gajardo y el Sr. Patricio Andrés Magaña Olguín.
URL:https://iglesiasanignacio.cl/event/matrimonio-magana-jara/
END:VEVENT
END:VCALENDAR