BEGIN:VCALENDAR
VERSION:2.0
PRODID:-//Iglesia San Ignacio de Loyola - ECPv3.12.1//NONSGML v1.0//EN
CALSCALE:GREGORIAN
METHOD:PUBLISH
X-WR-CALNAME:Iglesia San Ignacio de Loyola
X-ORIGINAL-URL:https://iglesiasanignacio.cl
X-WR-CALDESC:Events for Iglesia San Ignacio de Loyola
BEGIN:VEVENT
DTSTART:20260410T203000Z
DTEND:20260410T220000Z
DTSTAMP:20260422T120539Z
CREATED:20250625T145143Z
LAST-MODIFIED:20250626T130108Z
UID:2511-1775853000-1775858400@iglesiasanignacio.cl
SUMMARY:Matrimonio Valenzuela-Barker
DESCRIPTION:Matrimonio de la Srta. Alejandra Barker Parker y el Sr. Pelayo José Valenzuela Varas. Bendecirá la ceremonia el P. Juan Cristóbal Beytia S.J.
URL:https://iglesiasanignacio.cl/event/matrimonio-valenzuela-barker/
LOCATION:Padre Alonso Ovalle 1494\, santiago\, Chile
END:VEVENT
END:VCALENDAR