BEGIN:VCALENDAR
VERSION:2.0
PRODID:-//Iglesia San Ignacio de Loyola - ECPv3.12.1//NONSGML v1.0//EN
CALSCALE:GREGORIAN
METHOD:PUBLISH
X-WR-CALNAME:Iglesia San Ignacio de Loyola
X-ORIGINAL-URL:https://iglesiasanignacio.cl
X-WR-CALDESC:Events for Iglesia San Ignacio de Loyola
BEGIN:VEVENT
DTSTART:20260328T200000Z
DTEND:20260328T213000Z
DTSTAMP:20260422T134307Z
CREATED:20250731T200233Z
LAST-MODIFIED:20250731T200233Z
UID:2525-1774728000-1774733400@iglesiasanignacio.cl
SUMMARY:Matrimonio Sánchez-Alfero
DESCRIPTION:Matrimonio de la Srta. María Josefina Alfero Ricci y el Sr. Raimundo José Sánchez Silva. Bendecirá la ceremonia el P. José María García Camacho.
URL:https://iglesiasanignacio.cl/event/matrimonio-sanchez-alfero/
LOCATION:Padre Alonso Ovalle 1494\, santiago\, Chile
END:VEVENT
END:VCALENDAR