BEGIN:VCALENDAR
VERSION:2.0
PRODID:-//Iglesia San Ignacio de Loyola - ECPv3.12.1//NONSGML v1.0//EN
CALSCALE:GREGORIAN
METHOD:PUBLISH
X-WR-CALNAME:Iglesia San Ignacio de Loyola
X-ORIGINAL-URL:https://iglesiasanignacio.cl
X-WR-CALDESC:Events for Iglesia San Ignacio de Loyola
BEGIN:VEVENT
DTSTART:20260110T200000Z
DTEND:20260110T213000Z
DTSTAMP:20260422T161203Z
CREATED:20250618T194448Z
LAST-MODIFIED:20250618T194650Z
UID:2499-1768075200-1768080600@iglesiasanignacio.cl
SUMMARY:Matrimonio Prieto-del Río
DESCRIPTION:Matrimonio de la Srta. Amelia del Rio Aspillaga y el Sr. Tomás Prieto Jiménez. Bendecirá la ceremonia el P. Cristian del Campo S.J.
URL:https://iglesiasanignacio.cl/event/matrimonio-prieto-del-rio/
LOCATION:Padre Alonso Ovalle 1494\, santiago\, Chile
END:VEVENT
END:VCALENDAR